BEGIN:VCALENDAR
VERSION:2.0
BEGIN:VEVENT
URL:https://baropen.oztix.com.au/outlet/event/9b53426c-53de-422a-a99a-f26f30fa3f4a
DTSTART:20260529T103000Z
DTEND:20260529T103000Z
SUMMARY:Blondehouse (Single Launch) w/ Convenience Store + Handgrenade Hearts
DESCRIPTION:Event details: https://baropen.oztix.com.au/outlet/event/9b53426c-53de-422a-a99a-f26f30fa3f4a
LOCATION:Bar Open (Fitzroy, VIC)
END:VEVENT
END:VCALENDAR